BEGIN:VCALENDAR
VERSION:2.0
PRODID:-//Library Market//iCal Export//EN
BEGIN:VEVENT
SUMMARY:Blood Drive
UID:32673
DTSTAMP:20260425T132200Z
DTSTART:20260521T150000Z
DTEND:20260521T200000Z
LOCATION:Clover Library, 107 Knox St, Clover, SC 29710, United States
ROOM: Blood Drive
DESCRIPTION:Visit Clover Library to donate blood! Appointments are encoura
 ged by the Blood Connection. Please call 803-222-3474 to request a specifi
 c time or register online. 
URL:https://yorkcounty.librarycalendar.com/event/blood-drive-32673
END:VEVENT
END:VCALENDAR
