BEGIN:VCALENDAR
VERSION:2.0
PRODID:-//Library Market//iCal Export//EN
BEGIN:VEVENT
SUMMARY:Pottery Re-fit
UID:44422
DTSTAMP:20260424T025400Z
DTSTART:20260724T143000Z
DTEND:20260724T160000Z
LOCATION:Clover Library, 107 Knox St, Clover, SC 29710, United States
ROOM: Meeting Room (CL)
DESCRIPTION:South Carolina Department of Natural Resources Archaeology Out
 reach will be visiting York County Library to provide two different, but e
 qually fun, programs for teens! Both of these hands-on programs will be av
 ailable this summer for teens 12-18.“Dig” into the one that best suits
  your inner Indiana Jones! Registration opens two weeks before the event.P
 ottery Re-fit - Learn about techniques used by archaeologists in the lab! 
 Participants will decorate small ceramic pots, then “accidentally” dro
 p them! Using glue, a brush, and puzzle power, you will reassemble your po
 t to take home!This program aligns with YCL’s cultural literacy framewor
 k, which addresses the ability to understand and appreciate the similariti
 es and differences in the customs, values, and beliefs of one’s own cult
 ure the cultures of others.
URL:https://yorkcounty.librarycalendar.com/event/potter-refit-44422
END:VEVENT
END:VCALENDAR
