BEGIN:VCALENDAR
VERSION:2.0
PRODID:-//Library Market//iCal Export//EN
BEGIN:VEVENT
SUMMARY:Pottery Re-fit
UID:44423
DTSTAMP:20260425T132200Z
DTSTART:20260724T183000Z
DTEND:20260724T200000Z
LOCATION:Fort Mill Library, 1818 2nd Baxter Crossing, Fort Mill, SC 29708,
  United States
ROOM: Meeting Room (FM)
DESCRIPTION:South Carolina Department of Natural Resources Archaeology Out
 reach will be visiting Fort Mill Public Library to provide a fun program f
 or teens! Participants will decorate small ceramic pots, then “accidenta
 lly” drop them! Using glue, a brush, and puzzle power, you will reassemb
 le your pot to take home! Ages 12-18. Limit 20. Register online or call 8
 03-547-4114 starting July 10. This program aligns with YCL’s cultural l
 iteracy framework, which addresses the ability to understand and appreciat
 e the similarities and differences in the customs, values, and beliefs of 
 one’s own culture the cultures of others.
URL:https://yorkcounty.librarycalendar.com/event/pottery-refit-44423
END:VEVENT
END:VCALENDAR
