BEGIN:VCALENDAR
VERSION:2.0
PRODID:-//Library Market//iCal Export//EN
BEGIN:VEVENT
SUMMARY:Paint By Number Craft
UID:46684
DTSTAMP:20260425T132200Z
DTSTART:20260513T210000Z
DTEND:20260513T223000Z
LOCATION:York Library, 21 East Liberty St., York, SC 29745, United States
ROOM: Meeting Room (YK)
DESCRIPTION:Join the York Public Library for a Paint By Number craft night
 ! The library will provide all materials needed. Please register as soon a
 s possible as slots are limited. Register online or call (803) 818-8807. A
 dults 18+ only, please.  
URL:https://yorkcounty.librarycalendar.com/event/paint-number-craft-46684
END:VEVENT
END:VCALENDAR
