BEGIN:VCALENDAR
VERSION:2.0
PRODID:-//Library Market//iCal Export//EN
BEGIN:VEVENT
SUMMARY:Creating Comics 101
UID:47307
DTSTAMP:20260425T132200Z
DTSTART:20260720T180000Z
DTEND:20260720T193000Z
LOCATION:Fort Mill Library, 1818 2nd Baxter Crossing, Fort Mill, SC 29708,
  United States
ROOM: Meeting Room (FM)
DESCRIPTION:Are we drawing your attention yet? Then join us as Comics In T
 he Making leads us in a fun presentation on how to construct your own comi
 c! Ages 12-18. Registration online or call 803-831-7774, starting July 6. 
 Limit 30.This program aligns with YCL’s arts and creativity literacy fra
 mework, which addresses the ability to understand art history, styles, tec
 hniques, the ways to discuss art, and learning through creative expression
 , creative activities, visualization, and creative thinking.
URL:https://yorkcounty.librarycalendar.com/event/creating-comics-101-47307
END:VEVENT
END:VCALENDAR
