BEGIN:VCALENDAR
VERSION:2.0
PRODID:-//Library Market//iCal Export//EN
BEGIN:VEVENT
SUMMARY:Zumba
UID:47431
DTSTAMP:20260422T084700Z
DTSTART:20260903T140000Z
DTEND:20260903T150000Z
LOCATION:York County Library, 138 East Black St, Rock Hill, SC 29730, Unit
 ed States
ROOM: Activities Area (RH)
DESCRIPTION:Have Fun!
URL:https://yorkcounty.librarycalendar.com/event/zumba-47431
END:VEVENT
END:VCALENDAR
