BEGIN:VCALENDAR
VERSION:2.0
PRODID:-//Library Market//iCal Export//EN
BEGIN:VEVENT
SUMMARY:Zumba
UID:47432
DTSTAMP:20260420T155400Z
DTSTART:20260917T140000Z
DTEND:20260917T150000Z
LOCATION:York County Library, 138 East Black St, Rock Hill, SC 29730, Unit
 ed States
ROOM: Activities Area (RH)
DESCRIPTION:Let&#039;s have FUN!
URL:https://yorkcounty.librarycalendar.com/event/zumba-47432
END:VEVENT
END:VCALENDAR
