BEGIN:VCALENDAR
VERSION:2.0
PRODID:-//Library Market//iCal Export//EN
BEGIN:VEVENT
SUMMARY:Master Gardener Q &amp; A
UID:47553
DTSTAMP:20260422T082400Z
DTSTART:20260818T140000Z
DTEND:20260818T160000Z
LOCATION:York County Library, 138 East Black St, Rock Hill, SC 29730, Unit
 ed States
ROOM: Lobby (RH)
DESCRIPTION:We will have a Master Gardener available to answer questions a
 nd offer gardening suggestions every first and third Tuesday of the month 
 that the library is open from 10 a.m. to 12 p.m. in our lobby.  No regist
 ration required.  Call 803-981-5825 for more information.This program ali
 gns with YCL’s food literacy framework, which addresses the ability to u
 nderstand the impact of food choices on health, the environment, and the e
 conomy.
URL:https://yorkcounty.librarycalendar.com/event/gregs-master-gardener-q-4
 7553
END:VEVENT
END:VCALENDAR
