BEGIN:VCALENDAR
VERSION:2.0
PRODID:-//Library Market//iCal Export//EN
BEGIN:VEVENT
SUMMARY:YCL TS Staff
UID:47562
DTSTAMP:20260421T154300Z
DTSTART:20260430T150000Z
DTEND:20260430T160000Z
LOCATION:York County Library, 138 East Black St, Rock Hill, SC 29730, Unit
 ed States
ROOM: Meeting Room (RH)
DESCRIPTION:
URL:https://yorkcounty.librarycalendar.com/event/ycl-ts-staff-47562
END:VEVENT
END:VCALENDAR
